BEGIN:VCALENDAR
VERSION:2.0
PRODID:-//NZ IoT Alliance - ECPv4.6.7//NONSGML v1.0//EN
CALSCALE:GREGORIAN
METHOD:PUBLISH
X-ORIGINAL-URL:https://iotalliance.org.nz
X-WR-CALDESC:Events for NZ IoT Alliance
BEGIN:VEVENT
DTSTART;TZID=UTC+12:20171108T080000
DTEND;TZID=UTC+12:20171108T180000
DTSTAMP:20180122T093637
CREATED:20170911T133235Z
LAST-MODIFIED:20171025T102753Z
UID:180-1510128000-1510164000@iotalliance.org.nz
SUMMARY:2017 Internet of Things Conference
DESCRIPTION:IoT has the potential to be one of the most disruptive technologies in decades. However\, as with any rapid change\, questions begin emerging. Just how much of an impact could IoT have on New Zealand businesses? Are we ready for IoT? What are the opportunities? What risks are involved? What do we need to do to manage the risks? \nThe 2017 Internet of Things Conference will bring together a wide range of IoT experts to cover key themes and commercial aspects for companies that are positioning to take advantage of the emerging explosion in IoT technology. The focus will be on practical benefits and IoT business value for New Zealand businesses. \nCome and hear from the experts and network with other New Zealand businesses grappling with making IoT real. \n  \nConference attendance is limited to CIOs\, IT Directors and other senior IT and business executives in non-vendor organisations. IDC reserve the right to refuse attendance to any person not fitting these job descriptions\, or from a vendor organisation.  \n \n
URL:https://iotalliance.org.nz/event/2017-internet-things-conference/
CATEGORIES:NZ IoT Alliance,Other Industry Events
END:VEVENT
END:VCALENDAR